BEGIN:VCALENDAR
VERSION:2.0
PRODID:-//SeattleID - ECPv6.15.20//NONSGML v1.0//EN
CALSCALE:GREGORIAN
METHOD:PUBLISH
X-WR-CALNAME:SeattleID
X-ORIGINAL-URL:https://seattleid.com
X-WR-CALDESC:Events for SeattleID
REFRESH-INTERVAL;VALUE=DURATION:PT1H
X-Robots-Tag:noindex
X-PUBLISHED-TTL:PT1H
BEGIN:VTIMEZONE
TZID:America/Los_Angeles
BEGIN:DAYLIGHT
TZOFFSETFROM:-0800
TZOFFSETTO:-0700
TZNAME:PDT
DTSTART:20250309T100000
END:DAYLIGHT
BEGIN:STANDARD
TZOFFSETFROM:-0700
TZOFFSETTO:-0800
TZNAME:PST
DTSTART:20251102T090000
END:STANDARD
BEGIN:DAYLIGHT
TZOFFSETFROM:-0800
TZOFFSETTO:-0700
TZNAME:PDT
DTSTART:20260308T100000
END:DAYLIGHT
BEGIN:STANDARD
TZOFFSETFROM:-0700
TZOFFSETTO:-0800
TZNAME:PST
DTSTART:20261101T090000
END:STANDARD
BEGIN:DAYLIGHT
TZOFFSETFROM:-0800
TZOFFSETTO:-0700
TZNAME:PDT
DTSTART:20270314T100000
END:DAYLIGHT
BEGIN:STANDARD
TZOFFSETFROM:-0700
TZOFFSETTO:-0800
TZNAME:PST
DTSTART:20271107T090000
END:STANDARD
END:VTIMEZONE
BEGIN:VEVENT
DTSTART;VALUE=DATE:20260423
DTEND;VALUE=DATE:20260504
DTSTAMP:20260423T180058
CREATED:20260306T141854Z
LAST-MODIFIED:20260306T141854Z
UID:172837-1776902400-1777852799@seattleid.com
SUMMARY:सेब खिलना महोत्सव Apple Blossom Festival
DESCRIPTION:🎫 मुक्त \nपूर्वी वाशिंगटन में वाशिंगटन राज्य ऐप्पल ब्लॉसम फेस्टिवल में मनोरंजन\, खाद्य विक्रेता\, एक बियर गार्डन\, कार्निवल सवारी\, एक कला और शिल्प मेला\, एक कार परेड (शुक्रवार शाम 6 बजे)\, एक कार शो (शनिवार)\, और एक भव्य परेड (शनिवार सुबह 11 बजे) वेनाची में मेमोरियल पार्क\, 2 एस चेलन एवेन्यू के आसपास और एक भव्य परेड (शनिवार सुबह 11 बजे) है। अनुसूची । \n🎬 Video \n📍 Google Map \n🔗 मुखपृष्ठ देखें
URL:https://seattleid.com/seattle-event/%e0%a4%b8%e0%a5%87%e0%a4%ac-%e0%a4%96%e0%a4%bf%e0%a4%b2%e0%a4%a8%e0%a4%be-%e0%a4%ae%e0%a4%b9%e0%a5%8b%e0%a4%a4%e0%a5%8d%e0%a4%b8%e0%a4%b5-apple-blossom-festival/
LOCATION:Memorial Park\, 2 S Chelan Ave\, Wenatchee\, WA 98801\, WA\, United States
END:VEVENT
END:VCALENDAR