BEGIN:VCALENDAR
VERSION:2.0
PRODID:-//SeattleID - ECPv6.15.20//NONSGML v1.0//EN
CALSCALE:GREGORIAN
METHOD:PUBLISH
X-WR-CALNAME:SeattleID
X-ORIGINAL-URL:https://seattleid.com
X-WR-CALDESC:Events for SeattleID
REFRESH-INTERVAL;VALUE=DURATION:PT1H
X-Robots-Tag:noindex
X-PUBLISHED-TTL:PT1H
BEGIN:VTIMEZONE
TZID:America/Los_Angeles
BEGIN:DAYLIGHT
TZOFFSETFROM:-0800
TZOFFSETTO:-0700
TZNAME:PDT
DTSTART:20250309T100000
END:DAYLIGHT
BEGIN:STANDARD
TZOFFSETFROM:-0700
TZOFFSETTO:-0800
TZNAME:PST
DTSTART:20251102T090000
END:STANDARD
BEGIN:DAYLIGHT
TZOFFSETFROM:-0800
TZOFFSETTO:-0700
TZNAME:PDT
DTSTART:20260308T100000
END:DAYLIGHT
BEGIN:STANDARD
TZOFFSETFROM:-0700
TZOFFSETTO:-0800
TZNAME:PST
DTSTART:20261101T090000
END:STANDARD
BEGIN:DAYLIGHT
TZOFFSETFROM:-0800
TZOFFSETTO:-0700
TZNAME:PDT
DTSTART:20270314T100000
END:DAYLIGHT
BEGIN:STANDARD
TZOFFSETFROM:-0700
TZOFFSETTO:-0800
TZNAME:PST
DTSTART:20271107T090000
END:STANDARD
END:VTIMEZONE
BEGIN:VEVENT
DTSTART;VALUE=DATE:20260324
DTEND;VALUE=DATE:20260504
DTSTAMP:20260424T062033
CREATED:20260304T052044Z
LAST-MODIFIED:20260304T052044Z
UID:172700-1774310400-1777852799@seattleid.com
SUMMARY:सभी अमेरिकी नाटक All-American musical
DESCRIPTION:1950 के दशक में खुशी खुशी यात्रा करें ग्रीस के कलाकारों के साथ उच्च विद्यार्थी और प्यार के सामाजिक जीवन में घूमें। विलेज थियेटर\, 303 फ्रंट स्ट्रीट एन\, इस्साकुह में। ईवेंट में बाद में दोहराया जाएगा। \n🎬 Video \n📍 Google Map \n🔗 मुखपृष्ठ देखें
URL:https://seattleid.com/seattle-event/%e0%a4%b8%e0%a4%ad%e0%a5%80-%e0%a4%85%e0%a4%ae%e0%a5%87%e0%a4%b0%e0%a4%bf%e0%a4%95%e0%a5%80-%e0%a4%a8%e0%a4%be%e0%a4%9f%e0%a4%95-all-american-musical/
LOCATION:Village Theatre\, 303 Front St N\, Issaquah\, WA 98027\, WA\, United States
END:VEVENT
END:VCALENDAR