BEGIN:VCALENDAR
VERSION:2.0
PRODID:-//SeattleID - ECPv6.15.20//NONSGML v1.0//EN
CALSCALE:GREGORIAN
METHOD:PUBLISH
X-WR-CALNAME:SeattleID
X-ORIGINAL-URL:https://seattleid.com
X-WR-CALDESC:Events for SeattleID
REFRESH-INTERVAL;VALUE=DURATION:PT1H
X-Robots-Tag:noindex
X-PUBLISHED-TTL:PT1H
BEGIN:VTIMEZONE
TZID:America/Los_Angeles
BEGIN:DAYLIGHT
TZOFFSETFROM:-0800
TZOFFSETTO:-0700
TZNAME:PDT
DTSTART:20250309T100000
END:DAYLIGHT
BEGIN:STANDARD
TZOFFSETFROM:-0700
TZOFFSETTO:-0800
TZNAME:PST
DTSTART:20251102T090000
END:STANDARD
BEGIN:DAYLIGHT
TZOFFSETFROM:-0800
TZOFFSETTO:-0700
TZNAME:PDT
DTSTART:20260308T100000
END:DAYLIGHT
BEGIN:STANDARD
TZOFFSETFROM:-0700
TZOFFSETTO:-0800
TZNAME:PST
DTSTART:20261101T090000
END:STANDARD
BEGIN:DAYLIGHT
TZOFFSETFROM:-0800
TZOFFSETTO:-0700
TZNAME:PDT
DTSTART:20270314T100000
END:DAYLIGHT
BEGIN:STANDARD
TZOFFSETFROM:-0700
TZOFFSETTO:-0800
TZNAME:PST
DTSTART:20271107T090000
END:STANDARD
END:VTIMEZONE
BEGIN:VEVENT
DTSTART;VALUE=DATE:20260516
DTEND;VALUE=DATE:20260517
DTSTAMP:20260424T161046
CREATED:20260421T111109Z
LAST-MODIFIED:20260421T111109Z
UID:177140-1778889600-1778975999@seattleid.com
SUMMARY:रोलर डेरी Roller derby
DESCRIPTION:जेट सिटी रोलर डेरी में 5 और 7 बजे महिलाओं के खेल देखें। एडमंड्स समुदाय कॉलेज के सीवियु गाम में 200 वें स्ट्रीट सी वी एल्नवुड में खाना बेचा जाएगा और बीयर गार्डन भी होगा। द्वार 4 बजे खुलेंगे। \n \n🎫 Tickets 📷 Photos 🎬 Video \n📍 Google Map \n🔗 मुखपृष्ठ देखें
URL:https://seattleid.com/seattle-event/%e0%a4%b0%e0%a5%8b%e0%a4%b2%e0%a4%b0-%e0%a4%a1%e0%a5%87%e0%a4%b0%e0%a5%80-roller-derby/
LOCATION:Seaview Hall\, 200th St SW\, Lynnwood\, WA 98036\, WA\, United States
END:VEVENT
END:VCALENDAR