BEGIN:VCALENDAR
VERSION:2.0
PRODID:-//SeattleID - ECPv6.15.20//NONSGML v1.0//EN
CALSCALE:GREGORIAN
METHOD:PUBLISH
X-WR-CALNAME:SeattleID
X-ORIGINAL-URL:https://seattleid.com
X-WR-CALDESC:Events for SeattleID
REFRESH-INTERVAL;VALUE=DURATION:PT1H
X-Robots-Tag:noindex
X-PUBLISHED-TTL:PT1H
BEGIN:VTIMEZONE
TZID:America/Los_Angeles
BEGIN:DAYLIGHT
TZOFFSETFROM:-0800
TZOFFSETTO:-0700
TZNAME:PDT
DTSTART:20250309T100000
END:DAYLIGHT
BEGIN:STANDARD
TZOFFSETFROM:-0700
TZOFFSETTO:-0800
TZNAME:PST
DTSTART:20251102T090000
END:STANDARD
BEGIN:DAYLIGHT
TZOFFSETFROM:-0800
TZOFFSETTO:-0700
TZNAME:PDT
DTSTART:20260308T100000
END:DAYLIGHT
BEGIN:STANDARD
TZOFFSETFROM:-0700
TZOFFSETTO:-0800
TZNAME:PST
DTSTART:20261101T090000
END:STANDARD
BEGIN:DAYLIGHT
TZOFFSETFROM:-0800
TZOFFSETTO:-0700
TZNAME:PDT
DTSTART:20270314T100000
END:DAYLIGHT
BEGIN:STANDARD
TZOFFSETFROM:-0700
TZOFFSETTO:-0800
TZNAME:PST
DTSTART:20271107T090000
END:STANDARD
END:VTIMEZONE
BEGIN:VEVENT
DTSTART;VALUE=DATE:20260424
DTEND;VALUE=DATE:20260608
DTSTAMP:20260423T065716
CREATED:20260410T022158Z
LAST-MODIFIED:20260410T022158Z
UID:175949-1776988800-1780876799@seattleid.com
SUMMARY:रग्बी Rugby
DESCRIPTION:स्टारफायर स्पोर्ट्स में सीएटल सीवॉल्व्स के एक उत्साहजनक मेजर लीग रग्बी मैच देखें\, 14800 स्टारफायर वे\, टुकविला में। \n\n\n\nDate \n\n\n\nApril 12 \n1:00 PM \n@ \nAnthem Rugby Carolina \n\nApril 19 \n5:00 PM \n@ \nCalifornia Legion \n\nApril 24 \n7:00 PM \n\nChicago Hounds \n\nMay 3 \n1:00 PM \n@ \nNew England Free Jacks \n\nMay 10 \n1:00 PM \n@ \nOld Glory DC \n\nMay 17 \n1:00 PM \n\nAnthem Rugby Carolina \n\nMay 24 \n1:00 PM \n@ \nChicago Hounds \n\nMay 31 \n5:00 PM \n\nNew England Free Jacks \n\nJune 7 \n6:00 PM \n\nCalifornia Legion \n\n\n\n\n\n\n\n\n\n\n\n\n\n\n\n\n\n\n\n\n\n\n\n\n\n\n\n\n\n\n\n\n\n\n\n\n\n\n\n\n\n\n\n\n\n\n\n\n\n\n\n\n\n\n\n\n\n \n🎫 Tickets 🎬 Video \n📍 Google Map \n🔗 मुखपृष्ठ देखें
URL:https://seattleid.com/seattle-event/%e0%a4%b0%e0%a4%97%e0%a5%8d%e0%a4%ac%e0%a5%80-rugby-3/
LOCATION:Starfire Sports\, 14800 Starfire Way\, Tukwila\, WA 98188\, WA\, United States
END:VEVENT
END:VCALENDAR