BEGIN:VCALENDAR
VERSION:2.0
PRODID:-//SeattleID - ECPv6.15.20//NONSGML v1.0//EN
CALSCALE:GREGORIAN
METHOD:PUBLISH
X-WR-CALNAME:SeattleID
X-ORIGINAL-URL:https://seattleid.com
X-WR-CALDESC:Events for SeattleID
REFRESH-INTERVAL;VALUE=DURATION:PT1H
X-Robots-Tag:noindex
X-PUBLISHED-TTL:PT1H
BEGIN:VTIMEZONE
TZID:America/Los_Angeles
BEGIN:DAYLIGHT
TZOFFSETFROM:-0800
TZOFFSETTO:-0700
TZNAME:PDT
DTSTART:20250309T100000
END:DAYLIGHT
BEGIN:STANDARD
TZOFFSETFROM:-0700
TZOFFSETTO:-0800
TZNAME:PST
DTSTART:20251102T090000
END:STANDARD
BEGIN:DAYLIGHT
TZOFFSETFROM:-0800
TZOFFSETTO:-0700
TZNAME:PDT
DTSTART:20260308T100000
END:DAYLIGHT
BEGIN:STANDARD
TZOFFSETFROM:-0700
TZOFFSETTO:-0800
TZNAME:PST
DTSTART:20261101T090000
END:STANDARD
BEGIN:DAYLIGHT
TZOFFSETFROM:-0800
TZOFFSETTO:-0700
TZNAME:PDT
DTSTART:20270314T100000
END:DAYLIGHT
BEGIN:STANDARD
TZOFFSETFROM:-0700
TZOFFSETTO:-0800
TZNAME:PST
DTSTART:20271107T090000
END:STANDARD
END:VTIMEZONE
BEGIN:VEVENT
DTSTART;VALUE=DATE:20260507
DTEND;VALUE=DATE:20260508
DTSTAMP:20260424T041202
CREATED:20260414T102746Z
LAST-MODIFIED:20260414T102746Z
UID:176331-1778112000-1778198399@seattleid.com
SUMMARY:म्यूजियम दिन Museum day
DESCRIPTION:🎫 मुक्त \nम्यूजियम दिन एक ऐतिहासिक और सांस्कृतिक घटना है\, जिसके माध्यम से जनता को पुरातन संस्कृति\, संसाधन और ऐतिहासिक घटनाओं के बारे में जागरूक किया जाता है। \n\n\nBurke Museum of Natural History & Culture\, U.W. (10 a.m. to 8 p.m.). Reserve a time.\nMuseum of History & Industry (5 to 8 p.m.). They’ll ask if you want to make a donation.\nMuseum of Flight in Seattle (5 to 9 p.m.).\n\nNordic Museum in Ballard (10 a.m. to 8 p.m.). Price changes to $0 in cart.\n\nSeattle Art Museum (10 a.m. to 8 p.m.).\n\nSeattle Asian Art Museum (10 a.m. to 5 p.m.).\n\nSeattle Japanese Garden (12 to 5 p.m.).\nTacoma Art Museum (5 to 8 p.m.).\nVolunteer Park Conservatory (10 a.m. to 4 p.m.).\n\n\n🔗 मुखपृष्ठ देखें
URL:https://seattleid.com/seattle-event/%e0%a4%ae%e0%a5%8d%e0%a4%af%e0%a5%82%e0%a4%9c%e0%a4%bf%e0%a4%af%e0%a4%ae-%e0%a4%a6%e0%a4%bf%e0%a4%a8-museum-day/
LOCATION:Seattle & Tacoma
END:VEVENT
END:VCALENDAR