BEGIN:VCALENDAR
VERSION:2.0
PRODID:-//SeattleID - ECPv6.15.20//NONSGML v1.0//EN
CALSCALE:GREGORIAN
METHOD:PUBLISH
X-WR-CALNAME:SeattleID
X-ORIGINAL-URL:https://seattleid.com
X-WR-CALDESC:Events for SeattleID
REFRESH-INTERVAL;VALUE=DURATION:PT1H
X-Robots-Tag:noindex
X-PUBLISHED-TTL:PT1H
BEGIN:VTIMEZONE
TZID:America/Los_Angeles
BEGIN:DAYLIGHT
TZOFFSETFROM:-0800
TZOFFSETTO:-0700
TZNAME:PDT
DTSTART:20250309T100000
END:DAYLIGHT
BEGIN:STANDARD
TZOFFSETFROM:-0700
TZOFFSETTO:-0800
TZNAME:PST
DTSTART:20251102T090000
END:STANDARD
BEGIN:DAYLIGHT
TZOFFSETFROM:-0800
TZOFFSETTO:-0700
TZNAME:PDT
DTSTART:20260308T100000
END:DAYLIGHT
BEGIN:STANDARD
TZOFFSETFROM:-0700
TZOFFSETTO:-0800
TZNAME:PST
DTSTART:20261101T090000
END:STANDARD
BEGIN:DAYLIGHT
TZOFFSETFROM:-0800
TZOFFSETTO:-0700
TZNAME:PDT
DTSTART:20270314T100000
END:DAYLIGHT
BEGIN:STANDARD
TZOFFSETFROM:-0700
TZOFFSETTO:-0800
TZNAME:PST
DTSTART:20271107T090000
END:STANDARD
END:VTIMEZONE
BEGIN:VEVENT
DTSTART;VALUE=DATE:20260510
DTEND;VALUE=DATE:20260511
DTSTAMP:20260424T054734
CREATED:20260222T064810Z
LAST-MODIFIED:20260222T064810Z
UID:171102-1778371200-1778457599@seattleid.com
SUMMARY:माँ के दिन कॉमेडी Mother’s Day comedy
DESCRIPTION:माँ के दिन कॉमेडी शो में माँ के रूप में हंसें\, अप्रत्यक्ष नाटक कॉमेडी के साथ अपेक्षित प्रोडक्शन्स द्वारा आयोजित किया जाता है। स्थान: 1428 पोस्ट एली\, सीएएटल में\, डाउनटाउन (0.4 मील SW) \n📷 Photos \n📍 Google Map \n🔗 मुखपृष्ठ देखें
URL:https://seattleid.com/seattle-event/%e0%a4%ae%e0%a4%be%e0%a4%81-%e0%a4%95%e0%a5%87-%e0%a4%a6%e0%a4%bf%e0%a4%a8-%e0%a4%95%e0%a5%89%e0%a4%ae%e0%a5%87%e0%a4%a1%e0%a5%80-mothers-day-comedy/
LOCATION:Unexpected Productions Improv\, 1428 Post Alley\, Seattle\, WA 98101\, WA\, United States
END:VEVENT
END:VCALENDAR