BEGIN:VCALENDAR
VERSION:2.0
PRODID:-//SeattleID - ECPv6.15.20//NONSGML v1.0//EN
CALSCALE:GREGORIAN
METHOD:PUBLISH
X-WR-CALNAME:SeattleID
X-ORIGINAL-URL:https://seattleid.com
X-WR-CALDESC:Events for SeattleID
REFRESH-INTERVAL;VALUE=DURATION:PT1H
X-Robots-Tag:noindex
X-PUBLISHED-TTL:PT1H
BEGIN:VTIMEZONE
TZID:America/Los_Angeles
BEGIN:DAYLIGHT
TZOFFSETFROM:-0800
TZOFFSETTO:-0700
TZNAME:PDT
DTSTART:20250309T100000
END:DAYLIGHT
BEGIN:STANDARD
TZOFFSETFROM:-0700
TZOFFSETTO:-0800
TZNAME:PST
DTSTART:20251102T090000
END:STANDARD
BEGIN:DAYLIGHT
TZOFFSETFROM:-0800
TZOFFSETTO:-0700
TZNAME:PDT
DTSTART:20260308T100000
END:DAYLIGHT
BEGIN:STANDARD
TZOFFSETFROM:-0700
TZOFFSETTO:-0800
TZNAME:PST
DTSTART:20261101T090000
END:STANDARD
BEGIN:DAYLIGHT
TZOFFSETFROM:-0800
TZOFFSETTO:-0700
TZNAME:PDT
DTSTART:20270314T100000
END:DAYLIGHT
BEGIN:STANDARD
TZOFFSETFROM:-0700
TZOFFSETTO:-0800
TZNAME:PST
DTSTART:20271107T090000
END:STANDARD
END:VTIMEZONE
BEGIN:VEVENT
DTSTART;VALUE=DATE:20260510
DTEND;VALUE=DATE:20260511
DTSTAMP:20260424T092939
CREATED:20260415T125847Z
LAST-MODIFIED:20260415T125847Z
UID:176481-1778371200-1778457599@seattleid.com
SUMMARY:माँ के दिन के रेस्तरां Mother’s Day restaurants
DESCRIPTION:आप ब्रैंच\, लंच या डिनर के लिए चुन सकते हैं। वेबसाइटों द्वारा सिफारिश किए गए रेस्तरां देखें। \n\n\nGayot Guide\nOpenTable\nSeattle Met\nSeattle’s Child\nSecret Seattle\nYelp\n\n\n🔗 मुखपृष्ठ देखें
URL:https://seattleid.com/seattle-event/%e0%a4%ae%e0%a4%be%e0%a4%81-%e0%a4%95%e0%a5%87-%e0%a4%a6%e0%a4%bf%e0%a4%a8-%e0%a4%95%e0%a5%87-%e0%a4%b0%e0%a5%87%e0%a4%b8%e0%a5%8d%e0%a4%a4%e0%a4%b0%e0%a4%be%e0%a4%82-mothers-day-restaurants/
LOCATION:Multiple Locations
END:VEVENT
END:VCALENDAR