BEGIN:VCALENDAR
VERSION:2.0
PRODID:-//SeattleID - ECPv6.15.20//NONSGML v1.0//EN
CALSCALE:GREGORIAN
METHOD:PUBLISH
X-WR-CALNAME:SeattleID
X-ORIGINAL-URL:https://seattleid.com
X-WR-CALDESC:Events for SeattleID
REFRESH-INTERVAL;VALUE=DURATION:PT1H
X-Robots-Tag:noindex
X-PUBLISHED-TTL:PT1H
BEGIN:VTIMEZONE
TZID:America/Los_Angeles
BEGIN:DAYLIGHT
TZOFFSETFROM:-0800
TZOFFSETTO:-0700
TZNAME:PDT
DTSTART:20250309T100000
END:DAYLIGHT
BEGIN:STANDARD
TZOFFSETFROM:-0700
TZOFFSETTO:-0800
TZNAME:PST
DTSTART:20251102T090000
END:STANDARD
BEGIN:DAYLIGHT
TZOFFSETFROM:-0800
TZOFFSETTO:-0700
TZNAME:PDT
DTSTART:20260308T100000
END:DAYLIGHT
BEGIN:STANDARD
TZOFFSETFROM:-0700
TZOFFSETTO:-0800
TZNAME:PST
DTSTART:20261101T090000
END:STANDARD
BEGIN:DAYLIGHT
TZOFFSETFROM:-0800
TZOFFSETTO:-0700
TZNAME:PDT
DTSTART:20270314T100000
END:DAYLIGHT
BEGIN:STANDARD
TZOFFSETFROM:-0700
TZOFFSETTO:-0800
TZNAME:PST
DTSTART:20271107T090000
END:STANDARD
END:VTIMEZONE
BEGIN:VEVENT
DTSTART;VALUE=DATE:20260407
DTEND;VALUE=DATE:20270101
DTSTAMP:20260423T234304
CREATED:20260407T183606Z
LAST-MODIFIED:20260407T183606Z
UID:175632-1775520000-1798761599@seattleid.com
SUMMARY:मनोरंजन यात्राएं Fun tours
DESCRIPTION:मनोरंजन यात्राएं आपके लिए एक अद्वितीय अनुभव प्रदान करती हैं। आप अपने पसंदीदा स्थानों और अनुभवों के साथ एक अनूठा रोमांच अनुभव कर सकते हैं। \n\n\nHarbor Cruise at Seattle waterfront $46\nMount Rainier guided tour Thurs./Sat. $174\nSpace Needle + Chihuly Glass Museum $73\nUnderground Seattle at Pioneer Square $31\n\n\n \n🔗 मुखपृष्ठ देखें
URL:https://seattleid.com/seattle-event/%e0%a4%ae%e0%a4%a8%e0%a5%8b%e0%a4%b0%e0%a4%82%e0%a4%9c%e0%a4%a8-%e0%a4%af%e0%a4%be%e0%a4%a4%e0%a5%8d%e0%a4%b0%e0%a4%be%e0%a4%8f%e0%a4%82-fun-tours-2/
LOCATION:Seattle
END:VEVENT
END:VCALENDAR