BEGIN:VCALENDAR
VERSION:2.0
PRODID:-//SeattleID - ECPv6.15.20//NONSGML v1.0//EN
CALSCALE:GREGORIAN
METHOD:PUBLISH
X-WR-CALNAME:SeattleID
X-ORIGINAL-URL:https://seattleid.com
X-WR-CALDESC:Events for SeattleID
REFRESH-INTERVAL;VALUE=DURATION:PT1H
X-Robots-Tag:noindex
X-PUBLISHED-TTL:PT1H
BEGIN:VTIMEZONE
TZID:America/Los_Angeles
BEGIN:DAYLIGHT
TZOFFSETFROM:-0800
TZOFFSETTO:-0700
TZNAME:PDT
DTSTART:20250309T100000
END:DAYLIGHT
BEGIN:STANDARD
TZOFFSETFROM:-0700
TZOFFSETTO:-0800
TZNAME:PST
DTSTART:20251102T090000
END:STANDARD
BEGIN:DAYLIGHT
TZOFFSETFROM:-0800
TZOFFSETTO:-0700
TZNAME:PDT
DTSTART:20260308T100000
END:DAYLIGHT
BEGIN:STANDARD
TZOFFSETFROM:-0700
TZOFFSETTO:-0800
TZNAME:PST
DTSTART:20261101T090000
END:STANDARD
BEGIN:DAYLIGHT
TZOFFSETFROM:-0800
TZOFFSETTO:-0700
TZNAME:PDT
DTSTART:20270314T100000
END:DAYLIGHT
BEGIN:STANDARD
TZOFFSETFROM:-0700
TZOFFSETTO:-0800
TZNAME:PST
DTSTART:20271107T090000
END:STANDARD
END:VTIMEZONE
BEGIN:VEVENT
DTSTART;VALUE=DATE:20260414
DTEND;VALUE=DATE:20260901
DTSTAMP:20260423T074522
CREATED:20260414T102735Z
LAST-MODIFIED:20260414T102735Z
UID:176325-1776124800-1788220799@seattleid.com
SUMMARY:भूमिगत भ्रमण Underground tour
DESCRIPTION:मूल सड़क स्तर का पता लगाने के लिए आधुनिक सिएटल के नीचे कदम रखें\, जो 1889 की भीषण आग के बाद दफन हो गया था। आपकी $30 की भूमिगत इतिहास यात्रा सिएटल में 102 चेरी सेंट\, बेनिथ द स्ट्रीट्स से शुरू होती है। \n \n📷 Photos 🎬 Video \n📍 Google Map \n🔗 मुखपृष्ठ देखें
URL:https://seattleid.com/seattle-event/%e0%a4%ad%e0%a5%82%e0%a4%ae%e0%a4%bf%e0%a4%97%e0%a4%a4-%e0%a4%ad%e0%a5%8d%e0%a4%b0%e0%a4%ae%e0%a4%a3-underground-tour/
LOCATION:Beneath the Streets\, 102 Cherry St\, Seattle\, WA 98104\, WA\, United States
END:VEVENT
END:VCALENDAR