BEGIN:VCALENDAR
VERSION:2.0
PRODID:-//SeattleID - ECPv6.15.20//NONSGML v1.0//EN
CALSCALE:GREGORIAN
METHOD:PUBLISH
X-WR-CALNAME:SeattleID
X-ORIGINAL-URL:https://seattleid.com
X-WR-CALDESC:Events for SeattleID
REFRESH-INTERVAL;VALUE=DURATION:PT1H
X-Robots-Tag:noindex
X-PUBLISHED-TTL:PT1H
BEGIN:VTIMEZONE
TZID:America/Los_Angeles
BEGIN:DAYLIGHT
TZOFFSETFROM:-0800
TZOFFSETTO:-0700
TZNAME:PDT
DTSTART:20250309T100000
END:DAYLIGHT
BEGIN:STANDARD
TZOFFSETFROM:-0700
TZOFFSETTO:-0800
TZNAME:PST
DTSTART:20251102T090000
END:STANDARD
BEGIN:DAYLIGHT
TZOFFSETFROM:-0800
TZOFFSETTO:-0700
TZNAME:PDT
DTSTART:20260308T100000
END:DAYLIGHT
BEGIN:STANDARD
TZOFFSETFROM:-0700
TZOFFSETTO:-0800
TZNAME:PST
DTSTART:20261101T090000
END:STANDARD
BEGIN:DAYLIGHT
TZOFFSETFROM:-0800
TZOFFSETTO:-0700
TZNAME:PDT
DTSTART:20270314T100000
END:DAYLIGHT
BEGIN:STANDARD
TZOFFSETFROM:-0700
TZOFFSETTO:-0800
TZNAME:PST
DTSTART:20271107T090000
END:STANDARD
END:VTIMEZONE
BEGIN:VEVENT
DTSTART;VALUE=DATE:20260502
DTEND;VALUE=DATE:20260503
DTSTAMP:20260423T233537
CREATED:20260421T111104Z
LAST-MODIFIED:20260421T111104Z
UID:177138-1777680000-1777766399@seattleid.com
SUMMARY:ब्रिवरी रनिंग सीरीज Brewery Running Series
DESCRIPTION:बीयर रन एक 5 किलोमीटर की मनोरंजन प्रतियोगिता है\, जिसमें बीयर\, दरवाजा पुरस्कार\, जीवंत संगीत\, खाना वाहन और स्थानीय विपणनकर्ता शामिल होते हैं। यह गर्मियों में विभिन्न ब्रिवरी में आयोजित की जाती है। यह इल्योशियन फिल्ड्स\, 542 1st Ave. S\, सीएटल में है। \n📷 Photos 🎬 Video \n📍 Google Map \n🔗 मुखपृष्ठ देखें
URL:https://seattleid.com/seattle-event/%e0%a4%ac%e0%a5%8d%e0%a4%b0%e0%a4%bf%e0%a4%b5%e0%a4%b0%e0%a5%80-%e0%a4%b0%e0%a4%a8%e0%a4%bf%e0%a4%82%e0%a4%97-%e0%a4%b8%e0%a5%80%e0%a4%b0%e0%a5%80%e0%a4%9c-brewery-running-series/
LOCATION:Elysian Fields\, 542 1st Ave S\, Seattle\, WA 98104\, WA\, United States
END:VEVENT
END:VCALENDAR