BEGIN:VCALENDAR
VERSION:2.0
PRODID:-//SeattleID - ECPv6.15.20//NONSGML v1.0//EN
CALSCALE:GREGORIAN
METHOD:PUBLISH
X-WR-CALNAME:SeattleID
X-ORIGINAL-URL:https://seattleid.com
X-WR-CALDESC:Events for SeattleID
REFRESH-INTERVAL;VALUE=DURATION:PT1H
X-Robots-Tag:noindex
X-PUBLISHED-TTL:PT1H
BEGIN:VTIMEZONE
TZID:America/Los_Angeles
BEGIN:DAYLIGHT
TZOFFSETFROM:-0800
TZOFFSETTO:-0700
TZNAME:PDT
DTSTART:20250309T100000
END:DAYLIGHT
BEGIN:STANDARD
TZOFFSETFROM:-0700
TZOFFSETTO:-0800
TZNAME:PST
DTSTART:20251102T090000
END:STANDARD
BEGIN:DAYLIGHT
TZOFFSETFROM:-0800
TZOFFSETTO:-0700
TZNAME:PDT
DTSTART:20260308T100000
END:DAYLIGHT
BEGIN:STANDARD
TZOFFSETFROM:-0700
TZOFFSETTO:-0800
TZNAME:PST
DTSTART:20261101T090000
END:STANDARD
BEGIN:DAYLIGHT
TZOFFSETFROM:-0800
TZOFFSETTO:-0700
TZNAME:PDT
DTSTART:20270314T100000
END:DAYLIGHT
BEGIN:STANDARD
TZOFFSETFROM:-0700
TZOFFSETTO:-0800
TZNAME:PST
DTSTART:20271107T090000
END:STANDARD
END:VTIMEZONE
BEGIN:VEVENT
DTSTART;VALUE=DATE:20260516
DTEND;VALUE=DATE:20260517
DTSTAMP:20260424T124742
CREATED:20260222T124219Z
LAST-MODIFIED:20260222T124219Z
UID:171161-1778889600-1778975999@seattleid.com
SUMMARY:बरॉन टेस्टिंग Bourbon tasting
DESCRIPTION:29 डॉलर की टिकट द्वारा अम्ब्रोजिया सेशन्स में शामिल हो सकते हैं। इसमें संग्रहित छोटे बरॉन कोक्टेल\, मौसम के अनुसार छोटे भोजन और स्थानीय कलाकारों द्वारा आयोजित अनुभवी पॉप-अप शामिल हैं। वेस्ट सीएटल\, 1112 4th Ave। 21 साल या अधिक के लिए। लोकेशन: डाउनटाउन (0.4 मील दक्षिण) \n📍 Google Map \n🔗 मुखपृष्ठ देखें
URL:https://seattleid.com/seattle-event/%e0%a4%ac%e0%a4%b0%e0%a5%89%e0%a4%a8-%e0%a4%9f%e0%a5%87%e0%a4%b8%e0%a5%8d%e0%a4%9f%e0%a4%bf%e0%a4%82%e0%a4%97-bourbon-tasting/
LOCATION:W Seattle\, 1112 4th Ave\, Seattle\, WA 98101\, WA\, United States
END:VEVENT
END:VCALENDAR