BEGIN:VCALENDAR
VERSION:2.0
PRODID:-//SeattleID - ECPv6.15.20//NONSGML v1.0//EN
CALSCALE:GREGORIAN
METHOD:PUBLISH
X-WR-CALNAME:SeattleID
X-ORIGINAL-URL:https://seattleid.com
X-WR-CALDESC:Events for SeattleID
REFRESH-INTERVAL;VALUE=DURATION:PT1H
X-Robots-Tag:noindex
X-PUBLISHED-TTL:PT1H
BEGIN:VTIMEZONE
TZID:America/Los_Angeles
BEGIN:DAYLIGHT
TZOFFSETFROM:-0800
TZOFFSETTO:-0700
TZNAME:PDT
DTSTART:20250309T100000
END:DAYLIGHT
BEGIN:STANDARD
TZOFFSETFROM:-0700
TZOFFSETTO:-0800
TZNAME:PST
DTSTART:20251102T090000
END:STANDARD
BEGIN:DAYLIGHT
TZOFFSETFROM:-0800
TZOFFSETTO:-0700
TZNAME:PDT
DTSTART:20260308T100000
END:DAYLIGHT
BEGIN:STANDARD
TZOFFSETFROM:-0700
TZOFFSETTO:-0800
TZNAME:PST
DTSTART:20261101T090000
END:STANDARD
BEGIN:DAYLIGHT
TZOFFSETFROM:-0800
TZOFFSETTO:-0700
TZNAME:PDT
DTSTART:20270314T100000
END:DAYLIGHT
BEGIN:STANDARD
TZOFFSETFROM:-0700
TZOFFSETTO:-0800
TZNAME:PST
DTSTART:20271107T090000
END:STANDARD
END:VTIMEZONE
BEGIN:VEVENT
DTSTART;VALUE=DATE:20260314
DTEND;VALUE=DATE:20270101
DTSTAMP:20260424T080217
CREATED:20260315T032803Z
LAST-MODIFIED:20260315T032803Z
UID:174081-1773446400-1798761599@seattleid.com
SUMMARY:फ्री गतिविधियाँ करें Free things to do
DESCRIPTION:🎫 मुक्त \nआज भी आप फ्री गतिविधियाँ आयोजित कर सकते हैं! अपने शहर में आनंद लें और अपने आसपास के लोगों के साथ एक अनूठा समाजिक अनुभव बनाएं। \n\n\nBellevue Botanical Garden\, dawn to dusk\nClassical music\, Seattle\, Tacoma\, Eastside\nDance bands\, Lake Forest Park (Fri. – Sat.)\nFrye Art Museum\, Capitol Hill (Wed. – Sun.)\nGold Rush Museum\, Seattle (Wed. – Sun.)\nHenry Art Gallery\, U.W. (Thurs. – Sun.)\nKubota Garden\, Rainier Beach brochure\nOlympic Sculpture Park near Pier 70\nWalking trails in Seattle\n\n\n🔗 मुखपृष्ठ देखें
URL:https://seattleid.com/seattle-event/%e0%a4%ab%e0%a5%8d%e0%a4%b0%e0%a5%80-%e0%a4%97%e0%a4%a4%e0%a4%bf%e0%a4%b5%e0%a4%bf%e0%a4%a7%e0%a4%bf%e0%a4%af%e0%a4%be%e0%a4%81-%e0%a4%95%e0%a4%b0%e0%a5%87%e0%a4%82-free-things-to-do/
END:VEVENT
END:VCALENDAR