BEGIN:VCALENDAR
VERSION:2.0
PRODID:-//SeattleID - ECPv6.15.20//NONSGML v1.0//EN
CALSCALE:GREGORIAN
METHOD:PUBLISH
X-WR-CALNAME:SeattleID
X-ORIGINAL-URL:https://seattleid.com
X-WR-CALDESC:Events for SeattleID
REFRESH-INTERVAL;VALUE=DURATION:PT1H
X-Robots-Tag:noindex
X-PUBLISHED-TTL:PT1H
BEGIN:VTIMEZONE
TZID:America/Los_Angeles
BEGIN:DAYLIGHT
TZOFFSETFROM:-0800
TZOFFSETTO:-0700
TZNAME:PDT
DTSTART:20250309T100000
END:DAYLIGHT
BEGIN:STANDARD
TZOFFSETFROM:-0700
TZOFFSETTO:-0800
TZNAME:PST
DTSTART:20251102T090000
END:STANDARD
BEGIN:DAYLIGHT
TZOFFSETFROM:-0800
TZOFFSETTO:-0700
TZNAME:PDT
DTSTART:20260308T100000
END:DAYLIGHT
BEGIN:STANDARD
TZOFFSETFROM:-0700
TZOFFSETTO:-0800
TZNAME:PST
DTSTART:20261101T090000
END:STANDARD
BEGIN:DAYLIGHT
TZOFFSETFROM:-0800
TZOFFSETTO:-0700
TZNAME:PDT
DTSTART:20270314T100000
END:DAYLIGHT
BEGIN:STANDARD
TZOFFSETFROM:-0700
TZOFFSETTO:-0800
TZNAME:PST
DTSTART:20271107T090000
END:STANDARD
END:VTIMEZONE
BEGIN:VEVENT
DTSTART;VALUE=DATE:20260428
DTEND;VALUE=DATE:20260429
DTSTAMP:20260423T122437
CREATED:20260218T092609Z
LAST-MODIFIED:20260218T092609Z
UID:170012-1777334400-1777420799@seattleid.com
SUMMARY:पेरूवियन फ़्यूजन बैंड Peruvian fusion band
DESCRIPTION:ग्लोबल रिथ्म्स में नोवलिमा\, पेरू के चार दोस्तों के समूह अफ्रो-पेरूवियन संगीत बजाते हुए टाउन हॉल सीएटल\, 1119 8वीं एवेन्यू\, सीएटल में आयोजित किया जाएगा। 22 वर्ष से कम उम्र के लिए मुफ्त टिकट उपलब्ध हैं। \n🎬 Video \n📍 Google Map \n🔗 मुखपृष्ठ देखें
URL:https://seattleid.com/seattle-event/%e0%a4%aa%e0%a5%87%e0%a4%b0%e0%a5%82%e0%a4%b5%e0%a4%bf%e0%a4%af%e0%a4%a8-%e0%a4%ab%e0%a4%bc%e0%a5%8d%e0%a4%af%e0%a5%82%e0%a4%9c%e0%a4%a8-%e0%a4%ac%e0%a5%88%e0%a4%82%e0%a4%a1-peruvian-fusion-band/
LOCATION:Town Hall Seattle\, 1119 8th Ave\, Seattle\, WA 98101\, WA\, United States
END:VEVENT
END:VCALENDAR