BEGIN:VCALENDAR
VERSION:2.0
PRODID:-//SeattleID - ECPv6.15.20//NONSGML v1.0//EN
CALSCALE:GREGORIAN
METHOD:PUBLISH
X-WR-CALNAME:SeattleID
X-ORIGINAL-URL:https://seattleid.com
X-WR-CALDESC:Events for SeattleID
REFRESH-INTERVAL;VALUE=DURATION:PT1H
X-Robots-Tag:noindex
X-PUBLISHED-TTL:PT1H
BEGIN:VTIMEZONE
TZID:America/Los_Angeles
BEGIN:DAYLIGHT
TZOFFSETFROM:-0800
TZOFFSETTO:-0700
TZNAME:PDT
DTSTART:20250309T100000
END:DAYLIGHT
BEGIN:STANDARD
TZOFFSETFROM:-0700
TZOFFSETTO:-0800
TZNAME:PST
DTSTART:20251102T090000
END:STANDARD
BEGIN:DAYLIGHT
TZOFFSETFROM:-0800
TZOFFSETTO:-0700
TZNAME:PDT
DTSTART:20260308T100000
END:DAYLIGHT
BEGIN:STANDARD
TZOFFSETFROM:-0700
TZOFFSETTO:-0800
TZNAME:PST
DTSTART:20261101T090000
END:STANDARD
BEGIN:DAYLIGHT
TZOFFSETFROM:-0800
TZOFFSETTO:-0700
TZNAME:PDT
DTSTART:20270314T100000
END:DAYLIGHT
BEGIN:STANDARD
TZOFFSETFROM:-0700
TZOFFSETTO:-0800
TZNAME:PST
DTSTART:20271107T090000
END:STANDARD
END:VTIMEZONE
BEGIN:VEVENT
DTSTART;VALUE=DATE:20260514
DTEND;VALUE=DATE:20260918
DTSTAMP:20260424T092616
CREATED:20260222T064819Z
LAST-MODIFIED:20260222T064819Z
UID:171107-1778716800-1789689599@seattleid.com
SUMMARY:पूर्व साइड शराब टेस्टिंग Eastside wine tasting
DESCRIPTION:पुराने बेल्लव्यू शराब वॉक टिकट में सुवर्ण शराब ग्लास और 12 टेस्टिंग टिकट शामिल हैं\, जो दुकानों में उपयोग करने के लिए हैं। चेक-इन स्थल 520 बार एंड ग्रिल\, 10146 मेन स्ट्रीट बेल्लव्यू में है। वसंत और शरद ऋतु में आयोजित किया जाता है। बच्चे और पशु आमंत्रित नहीं हैं। \n📷 Photos 🎬 Video \n📍 Google Map \n🔗 मुखपृष्ठ देखें
URL:https://seattleid.com/seattle-event/%e0%a4%aa%e0%a5%82%e0%a4%b0%e0%a5%8d%e0%a4%b5-%e0%a4%b8%e0%a4%be%e0%a4%87%e0%a4%a1-%e0%a4%b6%e0%a4%b0%e0%a4%be%e0%a4%ac-%e0%a4%9f%e0%a5%87%e0%a4%b8%e0%a5%8d%e0%a4%9f%e0%a4%bf%e0%a4%82%e0%a4%97-eastsid/
LOCATION:520 Bar & Grill\, 10146 Main St\, Bellevue\, WA 98004\, WA\, United States
END:VEVENT
END:VCALENDAR