BEGIN:VCALENDAR
VERSION:2.0
PRODID:-//SeattleID - ECPv6.15.20//NONSGML v1.0//EN
CALSCALE:GREGORIAN
METHOD:PUBLISH
X-WR-CALNAME:SeattleID
X-ORIGINAL-URL:https://seattleid.com
X-WR-CALDESC:Events for SeattleID
REFRESH-INTERVAL;VALUE=DURATION:PT1H
X-Robots-Tag:noindex
X-PUBLISHED-TTL:PT1H
BEGIN:VTIMEZONE
TZID:America/Los_Angeles
BEGIN:DAYLIGHT
TZOFFSETFROM:-0800
TZOFFSETTO:-0700
TZNAME:PDT
DTSTART:20250309T100000
END:DAYLIGHT
BEGIN:STANDARD
TZOFFSETFROM:-0700
TZOFFSETTO:-0800
TZNAME:PST
DTSTART:20251102T090000
END:STANDARD
BEGIN:DAYLIGHT
TZOFFSETFROM:-0800
TZOFFSETTO:-0700
TZNAME:PDT
DTSTART:20260308T100000
END:DAYLIGHT
BEGIN:STANDARD
TZOFFSETFROM:-0700
TZOFFSETTO:-0800
TZNAME:PST
DTSTART:20261101T090000
END:STANDARD
BEGIN:DAYLIGHT
TZOFFSETFROM:-0800
TZOFFSETTO:-0700
TZNAME:PDT
DTSTART:20270314T100000
END:DAYLIGHT
BEGIN:STANDARD
TZOFFSETFROM:-0700
TZOFFSETTO:-0800
TZNAME:PST
DTSTART:20271107T090000
END:STANDARD
END:VTIMEZONE
BEGIN:VEVENT
DTSTART;VALUE=DATE:20260523
DTEND;VALUE=DATE:20260902
DTSTAMP:20260424T212319
CREATED:20260417T133827Z
LAST-MODIFIED:20260417T133827Z
UID:176826-1779494400-1788307199@seattleid.com
SUMMARY:पहाड़ों तक बस Bus to the mountains
DESCRIPTION:शनिवार\, रविवार और चयनित त्यौहारों के लिए ट्रेलहेड डायरेक्ट बस के माध्यम से हिकिंग ट्रैक्स तक यात्रा करें। प्रति व्यक्ति 2.75 डॉलर की दर पर। 18 वर्ष या उससे कम उम्र के बच्चे मुफ्त हैं। \n\n\nIssaquah Alps\nMount Si\n\n\n🔗 मुखपृष्ठ देखें
URL:https://seattleid.com/seattle-event/%e0%a4%aa%e0%a4%b9%e0%a4%be%e0%a4%a1%e0%a4%bc%e0%a5%8b%e0%a4%82-%e0%a4%a4%e0%a4%95-%e0%a4%ac%e0%a4%b8-bus-to-the-mountains/
LOCATION:Seattle\, Bellevue\, North Bend
END:VEVENT
END:VCALENDAR