BEGIN:VCALENDAR
VERSION:2.0
PRODID:-//SeattleID - ECPv6.15.20//NONSGML v1.0//EN
CALSCALE:GREGORIAN
METHOD:PUBLISH
X-WR-CALNAME:SeattleID
X-ORIGINAL-URL:https://seattleid.com
X-WR-CALDESC:Events for SeattleID
REFRESH-INTERVAL;VALUE=DURATION:PT1H
X-Robots-Tag:noindex
X-PUBLISHED-TTL:PT1H
BEGIN:VTIMEZONE
TZID:America/Los_Angeles
BEGIN:DAYLIGHT
TZOFFSETFROM:-0800
TZOFFSETTO:-0700
TZNAME:PDT
DTSTART:20250309T100000
END:DAYLIGHT
BEGIN:STANDARD
TZOFFSETFROM:-0700
TZOFFSETTO:-0800
TZNAME:PST
DTSTART:20251102T090000
END:STANDARD
BEGIN:DAYLIGHT
TZOFFSETFROM:-0800
TZOFFSETTO:-0700
TZNAME:PDT
DTSTART:20260308T100000
END:DAYLIGHT
BEGIN:STANDARD
TZOFFSETFROM:-0700
TZOFFSETTO:-0800
TZNAME:PST
DTSTART:20261101T090000
END:STANDARD
BEGIN:DAYLIGHT
TZOFFSETFROM:-0800
TZOFFSETTO:-0700
TZNAME:PDT
DTSTART:20270314T100000
END:DAYLIGHT
BEGIN:STANDARD
TZOFFSETFROM:-0700
TZOFFSETTO:-0800
TZNAME:PST
DTSTART:20271107T090000
END:STANDARD
END:VTIMEZONE
BEGIN:VEVENT
DTSTART;VALUE=DATE:20260517
DTEND;VALUE=DATE:20260518
DTSTAMP:20260424T142702
CREATED:20260222T221133Z
LAST-MODIFIED:20260222T221133Z
UID:171262-1778976000-1779062399@seattleid.com
SUMMARY:नॉर्वेजियन संविधान दिवस Norwegian day
DESCRIPTION:🎫 मुक्त \n17 मई के उत्सव में बैल्लर्ड में नॉर्वेजियन संविधान दिवस मनाया जाएगा। इस दिन बीयर हॉल\, लंच\, जीवंत संगीत\, खुला घर और 4 बजे के पैरेड के साथ विभिन्न घटनाएं होंगी। पैरेड में मार्चिंग बैंड\, ड्रिल टीम और नॉर्वेजियन कस्टम के साथ शामिल होंगे। बैल्लर्ड (5.5 मील उत्तर-पश्चिम) \n \n📷 Photos 🎬 Video \n📍 Google Map \n🔗 मुखपृष्ठ देखें
URL:https://seattleid.com/seattle-event/%e0%a4%a8%e0%a5%89%e0%a4%b0%e0%a5%8d%e0%a4%b5%e0%a5%87%e0%a4%9c%e0%a4%bf%e0%a4%af%e0%a4%a8-%e0%a4%b8%e0%a4%82%e0%a4%b5%e0%a4%bf%e0%a4%a7%e0%a4%be%e0%a4%a8-%e0%a4%a6%e0%a4%bf%e0%a4%b5%e0%a4%b8-norwegia/
LOCATION:Ballard
END:VEVENT
END:VCALENDAR