BEGIN:VCALENDAR
VERSION:2.0
PRODID:-//SeattleID - ECPv6.15.20//NONSGML v1.0//EN
CALSCALE:GREGORIAN
METHOD:PUBLISH
X-WR-CALNAME:SeattleID
X-ORIGINAL-URL:https://seattleid.com
X-WR-CALDESC:Events for SeattleID
REFRESH-INTERVAL;VALUE=DURATION:PT1H
X-Robots-Tag:noindex
X-PUBLISHED-TTL:PT1H
BEGIN:VTIMEZONE
TZID:America/Los_Angeles
BEGIN:DAYLIGHT
TZOFFSETFROM:-0800
TZOFFSETTO:-0700
TZNAME:PDT
DTSTART:20250309T100000
END:DAYLIGHT
BEGIN:STANDARD
TZOFFSETFROM:-0700
TZOFFSETTO:-0800
TZNAME:PST
DTSTART:20251102T090000
END:STANDARD
BEGIN:DAYLIGHT
TZOFFSETFROM:-0800
TZOFFSETTO:-0700
TZNAME:PDT
DTSTART:20260308T100000
END:DAYLIGHT
BEGIN:STANDARD
TZOFFSETFROM:-0700
TZOFFSETTO:-0800
TZNAME:PST
DTSTART:20261101T090000
END:STANDARD
BEGIN:DAYLIGHT
TZOFFSETFROM:-0800
TZOFFSETTO:-0700
TZNAME:PDT
DTSTART:20270314T100000
END:DAYLIGHT
BEGIN:STANDARD
TZOFFSETFROM:-0700
TZOFFSETTO:-0800
TZNAME:PST
DTSTART:20271107T090000
END:STANDARD
END:VTIMEZONE
BEGIN:VEVENT
DTSTART;VALUE=DATE:20260509
DTEND;VALUE=DATE:20260510
DTSTAMP:20260424T041945
CREATED:20260221T071731Z
LAST-MODIFIED:20260221T071731Z
UID:170853-1778284800-1778371199@seattleid.com
SUMMARY:नॉर्डिक गैला Nordic gala
DESCRIPTION:5:30 बजे रिसेप्शन\, 7 बजे डिनर और नॉर्थर्न लाइट्स के नीलामी में जीवंत नीलामी का आनंद लें। नॉर्डिक नेशनल म्यूजियम के समर्थन में हाइट रिजेंसी सीएच\, 808 हॉवेल स्ट्रीट पर। डाउनटाउन (0.2 मील उत्तर-पूर्व) \n📷 Photos \n📍 Google Map \n🔗 मुखपृष्ठ देखें
URL:https://seattleid.com/seattle-event/%e0%a4%a8%e0%a5%89%e0%a4%b0%e0%a5%8d%e0%a4%a1%e0%a4%bf%e0%a4%95-%e0%a4%97%e0%a5%88%e0%a4%b2%e0%a4%be-nordic-gala/
LOCATION:Hyatt Regency Seattle\, 808 Howell St\, Seattle\, WA 98101\, WA\, United States
END:VEVENT
END:VCALENDAR