BEGIN:VCALENDAR
VERSION:2.0
PRODID:-//SeattleID - ECPv6.15.20//NONSGML v1.0//EN
CALSCALE:GREGORIAN
METHOD:PUBLISH
X-WR-CALNAME:SeattleID
X-ORIGINAL-URL:https://seattleid.com
X-WR-CALDESC:Events for SeattleID
REFRESH-INTERVAL;VALUE=DURATION:PT1H
X-Robots-Tag:noindex
X-PUBLISHED-TTL:PT1H
BEGIN:VTIMEZONE
TZID:America/Los_Angeles
BEGIN:DAYLIGHT
TZOFFSETFROM:-0800
TZOFFSETTO:-0700
TZNAME:PDT
DTSTART:20250309T100000
END:DAYLIGHT
BEGIN:STANDARD
TZOFFSETFROM:-0700
TZOFFSETTO:-0800
TZNAME:PST
DTSTART:20251102T090000
END:STANDARD
BEGIN:DAYLIGHT
TZOFFSETFROM:-0800
TZOFFSETTO:-0700
TZNAME:PDT
DTSTART:20260308T100000
END:DAYLIGHT
BEGIN:STANDARD
TZOFFSETFROM:-0700
TZOFFSETTO:-0800
TZNAME:PST
DTSTART:20261101T090000
END:STANDARD
BEGIN:DAYLIGHT
TZOFFSETFROM:-0800
TZOFFSETTO:-0700
TZNAME:PDT
DTSTART:20270314T100000
END:DAYLIGHT
BEGIN:STANDARD
TZOFFSETFROM:-0700
TZOFFSETTO:-0800
TZNAME:PST
DTSTART:20271107T090000
END:STANDARD
END:VTIMEZONE
BEGIN:VEVENT
DTSTART;VALUE=DATE:20260424
DTEND;VALUE=DATE:20260426
DTSTAMP:20260424T073226
CREATED:20260218T005038Z
LAST-MODIFIED:20260218T005038Z
UID:169868-1776988800-1777161599@seattleid.com
SUMMARY:नृत्य: ऐलिस इन वन्डरलैंड Dance:Alice in Wonderland
DESCRIPTION:मोमिक्स नृत्य कंपनी रोशनी\, छाया\, वस्तुओं और मनुष्य के शरीर के साथ अमिष्ट और अद्भुत दुनियाओं की रचना करती है। इस कार्यक्रम को सीएटल के मेनी सेंटर फॉर द परफॉर्मिंग आर्ट्स (4040 जॉर्ज वाशिंगटन लेन एनई) में आयोजित किया गया है। \n \n📍 Google Map \n🔗 मुखपृष्ठ देखें
URL:https://seattleid.com/seattle-event/%e0%a4%a8%e0%a5%83%e0%a4%a4%e0%a5%8d%e0%a4%af-%e0%a4%90%e0%a4%b2%e0%a4%bf%e0%a4%b8-%e0%a4%87%e0%a4%a8-%e0%a4%b5%e0%a4%a8%e0%a5%8d%e0%a4%a1%e0%a4%b0%e0%a4%b2%e0%a5%88%e0%a4%82%e0%a4%a1-dancealice-in/
LOCATION:Meany Center for the Performing Arts\, 4040 George Washington Lane NE\, Seattle\, WA 98195\, WA\, United States
END:VEVENT
END:VCALENDAR