BEGIN:VCALENDAR
VERSION:2.0
PRODID:-//SeattleID - ECPv6.15.20//NONSGML v1.0//EN
CALSCALE:GREGORIAN
METHOD:PUBLISH
X-WR-CALNAME:SeattleID
X-ORIGINAL-URL:https://seattleid.com
X-WR-CALDESC:Events for SeattleID
REFRESH-INTERVAL;VALUE=DURATION:PT1H
X-Robots-Tag:noindex
X-PUBLISHED-TTL:PT1H
BEGIN:VTIMEZONE
TZID:America/Los_Angeles
BEGIN:DAYLIGHT
TZOFFSETFROM:-0800
TZOFFSETTO:-0700
TZNAME:PDT
DTSTART:20250309T100000
END:DAYLIGHT
BEGIN:STANDARD
TZOFFSETFROM:-0700
TZOFFSETTO:-0800
TZNAME:PST
DTSTART:20251102T090000
END:STANDARD
BEGIN:DAYLIGHT
TZOFFSETFROM:-0800
TZOFFSETTO:-0700
TZNAME:PDT
DTSTART:20260308T100000
END:DAYLIGHT
BEGIN:STANDARD
TZOFFSETFROM:-0700
TZOFFSETTO:-0800
TZNAME:PST
DTSTART:20261101T090000
END:STANDARD
BEGIN:DAYLIGHT
TZOFFSETFROM:-0800
TZOFFSETTO:-0700
TZNAME:PDT
DTSTART:20270314T100000
END:DAYLIGHT
BEGIN:STANDARD
TZOFFSETFROM:-0700
TZOFFSETTO:-0800
TZNAME:PST
DTSTART:20271107T090000
END:STANDARD
END:VTIMEZONE
BEGIN:VEVENT
DTSTART;VALUE=DATE:20260424
DTEND;VALUE=DATE:20260425
DTSTAMP:20260422T202946
CREATED:20260218T005033Z
LAST-MODIFIED:20260218T005033Z
UID:169865-1776988800-1777075199@seattleid.com
SUMMARY:नृत्योत्सव सभा Dance party
DESCRIPTION:अब्बा नाइट की शुरुआत एक डीजे द्वारा अब्बा और यूरो पॉप संगीत बजाने से होती है\, इसके बाद सिएटल ट्रिब्यूट बैंड अब्बाग्राहिक्स डांस फ्लोर पर लाइव प्रदर्शन करता है\, जिसमें 21+ उम्र के लिए सिएटल में स्वीडिश क्लब\, 1920 डेक्सटर एवेन्यू एन में बिक्री के लिए नॉर्डिक भोजन होता है। \n📍 Google Map \n🔗 मुखपृष्ठ देखें
URL:https://seattleid.com/seattle-event/%e0%a4%a8%e0%a5%83%e0%a4%a4%e0%a5%8d%e0%a4%af%e0%a5%8b%e0%a4%a4%e0%a5%8d%e0%a4%b8%e0%a4%b5-%e0%a4%b8%e0%a4%ad%e0%a4%be-dance-party/
LOCATION:The Swedish Club\, 1920 Dexter Ave N\, Seattle\, WA 98109\, WA\, United States
END:VEVENT
END:VCALENDAR