BEGIN:VCALENDAR
VERSION:2.0
PRODID:-//SeattleID - ECPv6.15.20//NONSGML v1.0//EN
CALSCALE:GREGORIAN
METHOD:PUBLISH
X-WR-CALNAME:SeattleID
X-ORIGINAL-URL:https://seattleid.com
X-WR-CALDESC:Events for SeattleID
REFRESH-INTERVAL;VALUE=DURATION:PT1H
X-Robots-Tag:noindex
X-PUBLISHED-TTL:PT1H
BEGIN:VTIMEZONE
TZID:America/Los_Angeles
BEGIN:DAYLIGHT
TZOFFSETFROM:-0800
TZOFFSETTO:-0700
TZNAME:PDT
DTSTART:20250309T100000
END:DAYLIGHT
BEGIN:STANDARD
TZOFFSETFROM:-0700
TZOFFSETTO:-0800
TZNAME:PST
DTSTART:20251102T090000
END:STANDARD
BEGIN:DAYLIGHT
TZOFFSETFROM:-0800
TZOFFSETTO:-0700
TZNAME:PDT
DTSTART:20260308T100000
END:DAYLIGHT
BEGIN:STANDARD
TZOFFSETFROM:-0700
TZOFFSETTO:-0800
TZNAME:PST
DTSTART:20261101T090000
END:STANDARD
BEGIN:DAYLIGHT
TZOFFSETFROM:-0800
TZOFFSETTO:-0700
TZNAME:PDT
DTSTART:20270314T100000
END:DAYLIGHT
BEGIN:STANDARD
TZOFFSETFROM:-0700
TZOFFSETTO:-0800
TZNAME:PST
DTSTART:20271107T090000
END:STANDARD
END:VTIMEZONE
BEGIN:VEVENT
DTSTART;VALUE=DATE:20260426
DTEND;VALUE=DATE:20260427
DTSTAMP:20260423T064432
CREATED:20260218T033333Z
LAST-MODIFIED:20260218T033333Z
UID:169926-1777161600-1777247999@seattleid.com
SUMMARY:डाइनोसॉर दिवस Dinosaur day
DESCRIPTION:डाइनोसॉर उत्सव में फोसिल खोदें\, प्रदर्शन देखें और पेलियोनटोलॉजिस्ट से बात करें। बर्क म्यूजियम\, 15वीं एवेन्यू नेव एक्सेस\, सीएटल में 4300 पते पर। यह यूनिवर्सिटी डिस्ट्रिक्ट (4.5 मील उत्तर-पूर्व) में स्थित है। ई-टिकट खरीदें ताकि प्रवेश समय आरक्षित कर सकें। \n📷 Photos \n📍 Google Map \n🔗 मुखपृष्ठ देखें
URL:https://seattleid.com/seattle-event/%e0%a4%a1%e0%a4%be%e0%a4%87%e0%a4%a8%e0%a5%8b%e0%a4%b8%e0%a5%89%e0%a4%b0-%e0%a4%a6%e0%a4%bf%e0%a4%b5%e0%a4%b8-dinosaur-day/
LOCATION:The Burke Museum\, 4300 15th Ave NE\, Seattle\, WA 98105\, WA\, United States
END:VEVENT
END:VCALENDAR