BEGIN:VCALENDAR
VERSION:2.0
PRODID:-//SeattleID - ECPv6.15.20//NONSGML v1.0//EN
CALSCALE:GREGORIAN
METHOD:PUBLISH
X-WR-CALNAME:SeattleID
X-ORIGINAL-URL:https://seattleid.com
X-WR-CALDESC:Events for SeattleID
REFRESH-INTERVAL;VALUE=DURATION:PT1H
X-Robots-Tag:noindex
X-PUBLISHED-TTL:PT1H
BEGIN:VTIMEZONE
TZID:America/Los_Angeles
BEGIN:DAYLIGHT
TZOFFSETFROM:-0800
TZOFFSETTO:-0700
TZNAME:PDT
DTSTART:20250309T100000
END:DAYLIGHT
BEGIN:STANDARD
TZOFFSETFROM:-0700
TZOFFSETTO:-0800
TZNAME:PST
DTSTART:20251102T090000
END:STANDARD
BEGIN:DAYLIGHT
TZOFFSETFROM:-0800
TZOFFSETTO:-0700
TZNAME:PDT
DTSTART:20260308T100000
END:DAYLIGHT
BEGIN:STANDARD
TZOFFSETFROM:-0700
TZOFFSETTO:-0800
TZNAME:PST
DTSTART:20261101T090000
END:STANDARD
BEGIN:DAYLIGHT
TZOFFSETFROM:-0800
TZOFFSETTO:-0700
TZNAME:PDT
DTSTART:20270314T100000
END:DAYLIGHT
BEGIN:STANDARD
TZOFFSETFROM:-0700
TZOFFSETTO:-0800
TZNAME:PST
DTSTART:20271107T090000
END:STANDARD
END:VTIMEZONE
BEGIN:VEVENT
DTSTART;VALUE=DATE:20260521
DTEND;VALUE=DATE:20260523
DTSTAMP:20260424T161616
CREATED:20260313T163513Z
LAST-MODIFIED:20260313T163513Z
UID:173996-1779321600-1779494399@seattleid.com
SUMMARY:ट्रेपेज़ शो Trapeze show
DESCRIPTION:वार्षिक प्रोटेगे शो में उन्नत छात्रों द्वारा विविध एरियल कलाओं का प्रदर्शन किया जाता है\, जिसमें ऊँची उड़ान वाले ट्रेपेज़\, जुगाड़ और एक चक्र चलाना शामिल है। इस शो को एमरल्ड सिटी ट्रेपेज़ आर्ट्स\, 2702 6वीं एवेन्यू दक्षिण\, सीएटल में सभी आयु वर्ग के लिए आयोजित किया जाता है। \n📷 Photos 🎬 Video \n📍 Google Map \n🔗 मुखपृष्ठ देखें
URL:https://seattleid.com/seattle-event/%e0%a4%9f%e0%a5%8d%e0%a4%b0%e0%a5%87%e0%a4%aa%e0%a5%87%e0%a4%9c%e0%a4%bc-%e0%a4%b6%e0%a5%8b-trapeze-show/
LOCATION:Emerald City Trapeze Arts\, 2702 6th Ave S\, Seattle\, WA 98134\, WA\, United States
END:VEVENT
END:VCALENDAR