BEGIN:VCALENDAR
VERSION:2.0
PRODID:-//SeattleID - ECPv6.15.20//NONSGML v1.0//EN
CALSCALE:GREGORIAN
METHOD:PUBLISH
X-WR-CALNAME:SeattleID
X-ORIGINAL-URL:https://seattleid.com
X-WR-CALDESC:Events for SeattleID
REFRESH-INTERVAL;VALUE=DURATION:PT1H
X-Robots-Tag:noindex
X-PUBLISHED-TTL:PT1H
BEGIN:VTIMEZONE
TZID:America/Los_Angeles
BEGIN:DAYLIGHT
TZOFFSETFROM:-0800
TZOFFSETTO:-0700
TZNAME:PDT
DTSTART:20250309T100000
END:DAYLIGHT
BEGIN:STANDARD
TZOFFSETFROM:-0700
TZOFFSETTO:-0800
TZNAME:PST
DTSTART:20251102T090000
END:STANDARD
BEGIN:DAYLIGHT
TZOFFSETFROM:-0800
TZOFFSETTO:-0700
TZNAME:PDT
DTSTART:20260308T100000
END:DAYLIGHT
BEGIN:STANDARD
TZOFFSETFROM:-0700
TZOFFSETTO:-0800
TZNAME:PST
DTSTART:20261101T090000
END:STANDARD
BEGIN:DAYLIGHT
TZOFFSETFROM:-0800
TZOFFSETTO:-0700
TZNAME:PDT
DTSTART:20270314T100000
END:DAYLIGHT
BEGIN:STANDARD
TZOFFSETFROM:-0700
TZOFFSETTO:-0800
TZNAME:PST
DTSTART:20271107T090000
END:STANDARD
END:VTIMEZONE
BEGIN:VEVENT
DTSTART;VALUE=DATE:20260521
DTEND;VALUE=DATE:20260522
DTSTAMP:20260424T200358
CREATED:20260421T111111Z
LAST-MODIFIED:20260421T111111Z
UID:177141-1779321600-1779407999@seattleid.com
SUMMARY:टैकोमा म्यूजियम नाइट Tacoma museum night
DESCRIPTION:🎫 मुक्त \nम्यूजियम नाइट के दौरान आप अपने बच्चों के साथ अपनी रात बिताने के लिए टैकोमा म्यूजियम के विशेष अवसर का लाभ उठा सकते हैं। यह एक अद्वितीय अनुभव है जहां बच्चे शिक्षा और मनोरंजन के साथ-साथ अपनी रचनात्मकता को भी विकसित कर सकते हैं। \n\n\nFoss Waterway Seaport (10 a.m. to 8 p.m.)\n\nMuseum of Glass (5 to 8 p.m.)\n\nTacoma Art Museum (5 to 8 p.m.)\nWash. State History Museum (3 to 8 p.m.)\n\n\n🔗 मुखपृष्ठ देखें
URL:https://seattleid.com/seattle-event/%e0%a4%9f%e0%a5%88%e0%a4%95%e0%a5%8b%e0%a4%ae%e0%a4%be-%e0%a4%ae%e0%a5%8d%e0%a4%af%e0%a5%82%e0%a4%9c%e0%a4%bf%e0%a4%af%e0%a4%ae-%e0%a4%a8%e0%a4%be%e0%a4%87%e0%a4%9f-tacoma-museum-night/
LOCATION:Tacoma
END:VEVENT
END:VCALENDAR