BEGIN:VCALENDAR
VERSION:2.0
PRODID:-//SeattleID - ECPv6.15.20//NONSGML v1.0//EN
CALSCALE:GREGORIAN
METHOD:PUBLISH
X-WR-CALNAME:SeattleID
X-ORIGINAL-URL:https://seattleid.com
X-WR-CALDESC:Events for SeattleID
REFRESH-INTERVAL;VALUE=DURATION:PT1H
X-Robots-Tag:noindex
X-PUBLISHED-TTL:PT1H
BEGIN:VTIMEZONE
TZID:America/Los_Angeles
BEGIN:DAYLIGHT
TZOFFSETFROM:-0800
TZOFFSETTO:-0700
TZNAME:PDT
DTSTART:20250309T100000
END:DAYLIGHT
BEGIN:STANDARD
TZOFFSETFROM:-0700
TZOFFSETTO:-0800
TZNAME:PST
DTSTART:20251102T090000
END:STANDARD
BEGIN:DAYLIGHT
TZOFFSETFROM:-0800
TZOFFSETTO:-0700
TZNAME:PDT
DTSTART:20260308T100000
END:DAYLIGHT
BEGIN:STANDARD
TZOFFSETFROM:-0700
TZOFFSETTO:-0800
TZNAME:PST
DTSTART:20261101T090000
END:STANDARD
BEGIN:DAYLIGHT
TZOFFSETFROM:-0800
TZOFFSETTO:-0700
TZNAME:PDT
DTSTART:20270314T100000
END:DAYLIGHT
BEGIN:STANDARD
TZOFFSETFROM:-0700
TZOFFSETTO:-0800
TZNAME:PST
DTSTART:20271107T090000
END:STANDARD
END:VTIMEZONE
BEGIN:VEVENT
DTSTART;VALUE=DATE:20260101
DTEND;VALUE=DATE:20270101
DTSTAMP:20260425T043514
CREATED:20260121T111223Z
LAST-MODIFIED:20260121T111223Z
UID:163639-1767225600-1798761599@seattleid.com
SUMMARY:टकोमा चिड़ियाघर: उत्सव की जगमगाहट Lights at Tacoma zoo
DESCRIPTION:ठंड से बचने के लिए गर्म कपड़े पहनकर पॉइंट डेफिएंस चिड़ियाघर में ज़ूल लाइट्स का आनंद लें! 15 लाख से ज़्यादा छुट्टी की रोशनी और मनमोहक सजावट आपका स्वागत करती है। \n**स्थान:** चिड़ियाघर\, 5400 एन पर्ल सेंट\, टकोमा। \n**ध्यान दें:** 24 और 25 दिसंबर को चिड़ियाघर बंद रहेगा। कुछ विशेष रातों को पालतू कुत्ते लाने पर शुल्क लागू होगा। \n📷 Photos 🎬 Video \n📍 Google Map 📍 Venue Map \n🔗 मुखपृष्ठ देखें
URL:https://seattleid.com/seattle-event/%e0%a4%9f%e0%a4%95%e0%a5%8b%e0%a4%ae%e0%a4%be-%e0%a4%9a%e0%a4%bf%e0%a4%a1%e0%a4%bc%e0%a4%bf%e0%a4%af%e0%a4%be%e0%a4%98%e0%a4%b0-%e0%a4%89%e0%a4%a4%e0%a5%8d%e0%a4%b8%e0%a4%b5-%e0%a4%95%e0%a5%80/
LOCATION:Point Defiance Zoo\, 5400 N Pearl St\, Tacoma\, WA 98407\, WA\, United States
END:VEVENT
END:VCALENDAR