BEGIN:VCALENDAR
VERSION:2.0
PRODID:-//SeattleID - ECPv6.15.20//NONSGML v1.0//EN
CALSCALE:GREGORIAN
METHOD:PUBLISH
X-WR-CALNAME:SeattleID
X-ORIGINAL-URL:https://seattleid.com
X-WR-CALDESC:Events for SeattleID
REFRESH-INTERVAL;VALUE=DURATION:PT1H
X-Robots-Tag:noindex
X-PUBLISHED-TTL:PT1H
BEGIN:VTIMEZONE
TZID:America/Los_Angeles
BEGIN:DAYLIGHT
TZOFFSETFROM:-0800
TZOFFSETTO:-0700
TZNAME:PDT
DTSTART:20250309T100000
END:DAYLIGHT
BEGIN:STANDARD
TZOFFSETFROM:-0700
TZOFFSETTO:-0800
TZNAME:PST
DTSTART:20251102T090000
END:STANDARD
BEGIN:DAYLIGHT
TZOFFSETFROM:-0800
TZOFFSETTO:-0700
TZNAME:PDT
DTSTART:20260308T100000
END:DAYLIGHT
BEGIN:STANDARD
TZOFFSETFROM:-0700
TZOFFSETTO:-0800
TZNAME:PST
DTSTART:20261101T090000
END:STANDARD
BEGIN:DAYLIGHT
TZOFFSETFROM:-0800
TZOFFSETTO:-0700
TZNAME:PDT
DTSTART:20270314T100000
END:DAYLIGHT
BEGIN:STANDARD
TZOFFSETFROM:-0700
TZOFFSETTO:-0800
TZNAME:PST
DTSTART:20271107T090000
END:STANDARD
END:VTIMEZONE
BEGIN:VEVENT
DTSTART;VALUE=DATE:20260425
DTEND;VALUE=DATE:20260427
DTSTAMP:20260423T115351
CREATED:20260410T132635Z
LAST-MODIFIED:20260410T132635Z
UID:176011-1777075200-1777247999@seattleid.com
SUMMARY:छात्र अक्रोबेट्स Student acrobats
DESCRIPTION:एमरल्ड सिटी ट्रेपेज़ आर्ट्स में ‘सर्कस गो व्रॉंग: लॉस्ट प्रॉप्स केस’ के दौरान देखें अक्रोबेटिक्स एंड न्यू सर्कस आर्ट्स स्कूल के युवा छात्रों के द्वारा एक रचनात्मक सर्हानी का अभिनय कैसे होता है जब वे एकल चक्रवात में घूमते हैं\, बहुत सारे बॉल उछालते हैं और वायु में उड़ते हैं\, 2702 6th Ave. S\, सीएएल में। स्थान: सोडो (2.8 मील दक्षिण) \n🎬 Video \n📍 Google Map \n🔗 मुखपृष्ठ देखें
URL:https://seattleid.com/seattle-event/%e0%a4%9b%e0%a4%be%e0%a4%a4%e0%a5%8d%e0%a4%b0-%e0%a4%85%e0%a4%95%e0%a5%8d%e0%a4%b0%e0%a5%8b%e0%a4%ac%e0%a5%87%e0%a4%9f%e0%a5%8d%e0%a4%b8-student-acrobats/
LOCATION:Emerald City Trapeze Arts\, 2702 6th Ave S\, Seattle\, WA 98134\, WA\, United States
END:VEVENT
END:VCALENDAR