BEGIN:VCALENDAR
VERSION:2.0
PRODID:-//SeattleID - ECPv6.15.20//NONSGML v1.0//EN
CALSCALE:GREGORIAN
METHOD:PUBLISH
X-WR-CALNAME:SeattleID
X-ORIGINAL-URL:https://seattleid.com
X-WR-CALDESC:Events for SeattleID
REFRESH-INTERVAL;VALUE=DURATION:PT1H
X-Robots-Tag:noindex
X-PUBLISHED-TTL:PT1H
BEGIN:VTIMEZONE
TZID:America/Los_Angeles
BEGIN:DAYLIGHT
TZOFFSETFROM:-0800
TZOFFSETTO:-0700
TZNAME:PDT
DTSTART:20250309T100000
END:DAYLIGHT
BEGIN:STANDARD
TZOFFSETFROM:-0700
TZOFFSETTO:-0800
TZNAME:PST
DTSTART:20251102T090000
END:STANDARD
BEGIN:DAYLIGHT
TZOFFSETFROM:-0800
TZOFFSETTO:-0700
TZNAME:PDT
DTSTART:20260308T100000
END:DAYLIGHT
BEGIN:STANDARD
TZOFFSETFROM:-0700
TZOFFSETTO:-0800
TZNAME:PST
DTSTART:20261101T090000
END:STANDARD
BEGIN:DAYLIGHT
TZOFFSETFROM:-0800
TZOFFSETTO:-0700
TZNAME:PDT
DTSTART:20270314T100000
END:DAYLIGHT
BEGIN:STANDARD
TZOFFSETFROM:-0700
TZOFFSETTO:-0800
TZNAME:PST
DTSTART:20271107T090000
END:STANDARD
END:VTIMEZONE
BEGIN:VEVENT
DTSTART;VALUE=DATE:20260324
DTEND;VALUE=DATE:20260504
DTSTAMP:20260424T094539
CREATED:20260130T111949Z
LAST-MODIFIED:20260130T111949Z
UID:166186-1774310400-1777852799@seattleid.com
SUMMARY:ग्रेस के टास्टर ने 1950 के दशक में स्कूल और प्यार की सामाजिक खेल-खुदाई का एक चुनौती हलवान यात्रा All-American musical
DESCRIPTION:विलेज थिएटर\, 303 फ़ॉर्ट स्ट्रीट ईसाकहूअ में ग्रेस के टास्टर का प्रदर्शन देखें। निकटतम संभवी तरह से एवरटॉयर में भी पुनरप्रस्तुति होगी। \n📍 Google Map \n🔗 मुखपृष्ठ देखें
URL:https://seattleid.com/seattle-event/%e0%a4%97%e0%a5%8d%e0%a4%b0%e0%a5%87%e0%a4%b8-%e0%a4%95%e0%a5%87-%e0%a4%9f%e0%a4%be%e0%a4%b8%e0%a5%8d%e0%a4%9f%e0%a4%b0-%e0%a4%a8%e0%a5%87-1950-%e0%a4%95%e0%a5%87-%e0%a4%a6%e0%a4%b6%e0%a4%95-%e0%a4%ae/
LOCATION:Village Theatre\, 303 Front St N\, Issaquah\, WA 98027\, WA\, United States
END:VEVENT
END:VCALENDAR