BEGIN:VCALENDAR
VERSION:2.0
PRODID:-//SeattleID - ECPv6.15.20//NONSGML v1.0//EN
CALSCALE:GREGORIAN
METHOD:PUBLISH
X-WR-CALNAME:SeattleID
X-ORIGINAL-URL:https://seattleid.com
X-WR-CALDESC:Events for SeattleID
REFRESH-INTERVAL;VALUE=DURATION:PT1H
X-Robots-Tag:noindex
X-PUBLISHED-TTL:PT1H
BEGIN:VTIMEZONE
TZID:America/Los_Angeles
BEGIN:DAYLIGHT
TZOFFSETFROM:-0800
TZOFFSETTO:-0700
TZNAME:PDT
DTSTART:20250309T100000
END:DAYLIGHT
BEGIN:STANDARD
TZOFFSETFROM:-0700
TZOFFSETTO:-0800
TZNAME:PST
DTSTART:20251102T090000
END:STANDARD
BEGIN:DAYLIGHT
TZOFFSETFROM:-0800
TZOFFSETTO:-0700
TZNAME:PDT
DTSTART:20260308T100000
END:DAYLIGHT
BEGIN:STANDARD
TZOFFSETFROM:-0700
TZOFFSETTO:-0800
TZNAME:PST
DTSTART:20261101T090000
END:STANDARD
BEGIN:DAYLIGHT
TZOFFSETFROM:-0800
TZOFFSETTO:-0700
TZNAME:PDT
DTSTART:20270314T100000
END:DAYLIGHT
BEGIN:STANDARD
TZOFFSETFROM:-0700
TZOFFSETTO:-0800
TZNAME:PST
DTSTART:20271107T090000
END:STANDARD
END:VTIMEZONE
BEGIN:VEVENT
DTSTART;VALUE=DATE:20260410
DTEND;VALUE=DATE:20260426
DTSTAMP:20260423T221512
CREATED:20260408T055548Z
LAST-MODIFIED:20260408T055548Z
UID:175698-1775779200-1777161599@seattleid.com
SUMMARY:गॉर्मेट कुकिंग क्लास Gourmet cooking class
DESCRIPTION:एक प्रोफेशनल शेफ के साथ आपको एक स्वादिष्ट एपेटाइजर खिलाया जाएगा। फिर होट स्टोव सोसाइटी द्वारा आयोजित क्लास में आपको सीएल सेलेम में 2000 4th Ave. पर बहुत अच्छा स्वाद अनुभव कराया जाएगा। \n\n\n\nDate \nTime \nPrice \nTheme \n\nApril 10 \n5:30 PM \n$135 \nCrab feast \n\nApril 17 \n5:30 PM \n$130 \nPork chop\, soup\, cake \n\nApril 24 \n5:30 PM \n$115 \nRisotto & salad \n\nApril 25 \n11:00 AM \n$105 \nEnglish muffin brunch \n\nApril 25 \n2:30 PM \n$110 \nEnchiladas with pork\n\n\n\n\n\n\n\n\n\n\n\n\n\n\n\n\n\n\n\n\n\n\n\n\n\n\n\n\n\n\n\n\n🎬 Video \n📍 Google Map \n🔗 मुखपृष्ठ देखें
URL:https://seattleid.com/seattle-event/%e0%a4%97%e0%a5%89%e0%a4%b0%e0%a5%8d%e0%a4%ae%e0%a5%87%e0%a4%9f-%e0%a4%95%e0%a5%81%e0%a4%95%e0%a4%bf%e0%a4%82%e0%a4%97-%e0%a4%95%e0%a5%8d%e0%a4%b2%e0%a4%be%e0%a4%b8-gourmet-cooking-class/
LOCATION:Hotel Andra\, 2000 4th Ave\, Seattle\, WA 98121\, WA\, United States
END:VEVENT
END:VCALENDAR