BEGIN:VCALENDAR
VERSION:2.0
PRODID:-//SeattleID - ECPv6.15.20//NONSGML v1.0//EN
CALSCALE:GREGORIAN
METHOD:PUBLISH
X-WR-CALNAME:SeattleID
X-ORIGINAL-URL:https://seattleid.com
X-WR-CALDESC:Events for SeattleID
REFRESH-INTERVAL;VALUE=DURATION:PT1H
X-Robots-Tag:noindex
X-PUBLISHED-TTL:PT1H
BEGIN:VTIMEZONE
TZID:America/Los_Angeles
BEGIN:DAYLIGHT
TZOFFSETFROM:-0800
TZOFFSETTO:-0700
TZNAME:PDT
DTSTART:20250309T100000
END:DAYLIGHT
BEGIN:STANDARD
TZOFFSETFROM:-0700
TZOFFSETTO:-0800
TZNAME:PST
DTSTART:20251102T090000
END:STANDARD
BEGIN:DAYLIGHT
TZOFFSETFROM:-0800
TZOFFSETTO:-0700
TZNAME:PDT
DTSTART:20260308T100000
END:DAYLIGHT
BEGIN:STANDARD
TZOFFSETFROM:-0700
TZOFFSETTO:-0800
TZNAME:PST
DTSTART:20261101T090000
END:STANDARD
BEGIN:DAYLIGHT
TZOFFSETFROM:-0800
TZOFFSETTO:-0700
TZNAME:PDT
DTSTART:20270314T100000
END:DAYLIGHT
BEGIN:STANDARD
TZOFFSETFROM:-0700
TZOFFSETTO:-0800
TZNAME:PST
DTSTART:20271107T090000
END:STANDARD
END:VTIMEZONE
BEGIN:VEVENT
DTSTART;VALUE=DATE:20260417
DTEND;VALUE=DATE:20260501
DTSTAMP:20260423T014315
CREATED:20260408T182646Z
LAST-MODIFIED:20260408T182646Z
UID:175756-1776384000-1777593599@seattleid.com
SUMMARY:कविता मेला Poetry festival
DESCRIPTION:कादेंस: वीडियो कविता मेला एक सिरीज है जो वीडियो कविता के प्रदर्शन\, कार्यशाला और चर्चा के बारे में बताती है। इसमें विभिन्न देशों से तैयार की गई कार्य शामिल हैं और यह दो स्थानों पर आयोजित किया जाएगा। \n\n\nApril 17 – 19 — Northwest Film Forum\nApril 30 — Frye Art Museum\n\n\n🔗 मुखपृष्ठ देखें
URL:https://seattleid.com/seattle-event/%e0%a4%95%e0%a4%b5%e0%a4%bf%e0%a4%a4%e0%a4%be-%e0%a4%ae%e0%a5%87%e0%a4%b2%e0%a4%be-poetry-festival/
LOCATION:Multiple Locations
END:VEVENT
END:VCALENDAR