BEGIN:VCALENDAR
VERSION:2.0
PRODID:-//SeattleID - ECPv6.15.20//NONSGML v1.0//EN
CALSCALE:GREGORIAN
METHOD:PUBLISH
X-WR-CALNAME:SeattleID
X-ORIGINAL-URL:https://seattleid.com
X-WR-CALDESC:Events for SeattleID
REFRESH-INTERVAL;VALUE=DURATION:PT1H
X-Robots-Tag:noindex
X-PUBLISHED-TTL:PT1H
BEGIN:VTIMEZONE
TZID:America/Los_Angeles
BEGIN:DAYLIGHT
TZOFFSETFROM:-0800
TZOFFSETTO:-0700
TZNAME:PDT
DTSTART:20250309T100000
END:DAYLIGHT
BEGIN:STANDARD
TZOFFSETFROM:-0700
TZOFFSETTO:-0800
TZNAME:PST
DTSTART:20251102T090000
END:STANDARD
BEGIN:DAYLIGHT
TZOFFSETFROM:-0800
TZOFFSETTO:-0700
TZNAME:PDT
DTSTART:20260308T100000
END:DAYLIGHT
BEGIN:STANDARD
TZOFFSETFROM:-0700
TZOFFSETTO:-0800
TZNAME:PST
DTSTART:20261101T090000
END:STANDARD
BEGIN:DAYLIGHT
TZOFFSETFROM:-0800
TZOFFSETTO:-0700
TZNAME:PDT
DTSTART:20270314T100000
END:DAYLIGHT
BEGIN:STANDARD
TZOFFSETFROM:-0700
TZOFFSETTO:-0800
TZNAME:PST
DTSTART:20271107T090000
END:STANDARD
END:VTIMEZONE
BEGIN:VEVENT
DTSTART;VALUE=DATE:20260424
DTEND;VALUE=DATE:20260426
DTSTAMP:20260424T073139
CREATED:20260218T005041Z
LAST-MODIFIED:20260218T005041Z
UID:169871-1776988800-1777161599@seattleid.com
SUMMARY:ओलंपिया आर्ट्स वीकेंड Olympia arts weekend
DESCRIPTION:🎫 मुक्त \nशुक्रवार शाम और शनिवार को ओलंपिया आर्ट्स वॉक में कलाओं का आनंद लें। मुख्य रैली (शुक्रवार\, 8:30 बजे शाम) और जानवरों के कपड़ों में रैली (शनिवार\, 4:30 बजे शाम) में शामिल हों। दोनों रैलियां सिवलेस्टर पार्क\, 615 वॉशिंगटन स्ट्रीट एसई\, ओलंपिया पार्क के पास आती हैं। सड़क पार्किंग शाम 5 बजे के बाद और छुट्टियों के दिन मुफ्त है। \n \n🎬 Video \n📍 Google Map 📍 Venue Map \n🔗 मुखपृष्ठ देखें
URL:https://seattleid.com/seattle-event/%e0%a4%93%e0%a4%b2%e0%a4%82%e0%a4%aa%e0%a4%bf%e0%a4%af%e0%a4%be-%e0%a4%86%e0%a4%b0%e0%a5%8d%e0%a4%9f%e0%a5%8d%e0%a4%b8-%e0%a4%b5%e0%a5%80%e0%a4%95%e0%a5%87%e0%a4%82%e0%a4%a1-olympia-arts-weekend/
LOCATION:Sylvester Park\, 615 Washington St SE\, Olympia\, WA 98501\, WA\, United States
END:VEVENT
END:VCALENDAR