BEGIN:VCALENDAR
VERSION:2.0
PRODID:-//SeattleID - ECPv6.15.20//NONSGML v1.0//EN
CALSCALE:GREGORIAN
METHOD:PUBLISH
X-WR-CALNAME:SeattleID
X-ORIGINAL-URL:https://seattleid.com
X-WR-CALDESC:Events for SeattleID
REFRESH-INTERVAL;VALUE=DURATION:PT1H
X-Robots-Tag:noindex
X-PUBLISHED-TTL:PT1H
BEGIN:VTIMEZONE
TZID:America/Los_Angeles
BEGIN:DAYLIGHT
TZOFFSETFROM:-0800
TZOFFSETTO:-0700
TZNAME:PDT
DTSTART:20250309T100000
END:DAYLIGHT
BEGIN:STANDARD
TZOFFSETFROM:-0700
TZOFFSETTO:-0800
TZNAME:PST
DTSTART:20251102T090000
END:STANDARD
BEGIN:DAYLIGHT
TZOFFSETFROM:-0800
TZOFFSETTO:-0700
TZNAME:PDT
DTSTART:20260308T100000
END:DAYLIGHT
BEGIN:STANDARD
TZOFFSETFROM:-0700
TZOFFSETTO:-0800
TZNAME:PST
DTSTART:20261101T090000
END:STANDARD
BEGIN:DAYLIGHT
TZOFFSETFROM:-0800
TZOFFSETTO:-0700
TZNAME:PDT
DTSTART:20270314T100000
END:DAYLIGHT
BEGIN:STANDARD
TZOFFSETFROM:-0700
TZOFFSETTO:-0800
TZNAME:PST
DTSTART:20271107T090000
END:STANDARD
END:VTIMEZONE
BEGIN:VEVENT
DTSTART;VALUE=DATE:20260314
DTEND;VALUE=DATE:20260608
DTSTAMP:20260424T112829
CREATED:20260315T032801Z
LAST-MODIFIED:20260315T032801Z
UID:174080-1773446400-1780876799@seattleid.com
SUMMARY:आत्मगोचर अनुभव Immersive experience
DESCRIPTION:आपकी कल्पना के बाहर एक ऐसे ग्रह में आएं जहां वर्चुअल रियलिटी तकनीक के साथ 10 अलग-अलग थीम वाले कमरे और अद्भुत दृश्य आपको ले जाएंगे। बबल प्लैनेट\, 103 110th Ave. NE\, बेल्ल्व्यू में। मंगलवार को बंद होता है। \n \n📷 Photos 🎬 Video \n📍 Google Map \n🔗 मुखपृष्ठ देखें
URL:https://seattleid.com/seattle-event/%e0%a4%86%e0%a4%a4%e0%a5%8d%e0%a4%ae%e0%a4%97%e0%a5%8b%e0%a4%9a%e0%a4%b0-%e0%a4%85%e0%a4%a8%e0%a5%81%e0%a4%ad%e0%a4%b5-immersive-experience-2/
LOCATION:Spirit Halloween\, 103 110th Ave NE\, Bellevue\, WA 98004\, WA\, United States
END:VEVENT
END:VCALENDAR