BEGIN:VCALENDAR
VERSION:2.0
PRODID:-//SeattleID - ECPv6.15.20//NONSGML v1.0//EN
CALSCALE:GREGORIAN
METHOD:PUBLISH
X-WR-CALNAME:SeattleID
X-ORIGINAL-URL:https://seattleid.com
X-WR-CALDESC:Events for SeattleID
REFRESH-INTERVAL;VALUE=DURATION:PT1H
X-Robots-Tag:noindex
X-PUBLISHED-TTL:PT1H
BEGIN:VTIMEZONE
TZID:America/Los_Angeles
BEGIN:DAYLIGHT
TZOFFSETFROM:-0800
TZOFFSETTO:-0700
TZNAME:PDT
DTSTART:20250309T100000
END:DAYLIGHT
BEGIN:STANDARD
TZOFFSETFROM:-0700
TZOFFSETTO:-0800
TZNAME:PST
DTSTART:20251102T090000
END:STANDARD
BEGIN:DAYLIGHT
TZOFFSETFROM:-0800
TZOFFSETTO:-0700
TZNAME:PDT
DTSTART:20260308T100000
END:DAYLIGHT
BEGIN:STANDARD
TZOFFSETFROM:-0700
TZOFFSETTO:-0800
TZNAME:PST
DTSTART:20261101T090000
END:STANDARD
BEGIN:DAYLIGHT
TZOFFSETFROM:-0800
TZOFFSETTO:-0700
TZNAME:PDT
DTSTART:20270314T100000
END:DAYLIGHT
BEGIN:STANDARD
TZOFFSETFROM:-0700
TZOFFSETTO:-0800
TZNAME:PST
DTSTART:20271107T090000
END:STANDARD
END:VTIMEZONE
BEGIN:VEVENT
DTSTART;VALUE=DATE:20260507
DTEND;VALUE=DATE:20260510
DTSTAMP:20260424T004619
CREATED:20260221T071714Z
LAST-MODIFIED:20260221T071714Z
UID:170840-1778112000-1778371199@seattleid.com
SUMMARY:अमेरिकी संगीत पर नृत्य Dancing to American music
DESCRIPTION:जब ब्रुकलिन का मार्क मॉरिस डांस ग्रुप सिएटल में मीनी सेंटर फॉर द परफॉर्मिंग आर्ट्स\, 4040 जॉर्ज वाशिंगटन लेन एनई में अमेरिकी संगीत: सोल ऑफ अमेरिका में नृत्य प्रस्तुत करता है\, तो तकनीकी विशेषज्ञता\, अद्वितीय कलात्मकता और लाइव संगीत के विशिष्ट उपयोग का गवाह बनें। \n \n🎬 Video \n📍 Google Map \n🔗 मुखपृष्ठ देखें
URL:https://seattleid.com/seattle-event/%e0%a4%85%e0%a4%ae%e0%a5%87%e0%a4%b0%e0%a4%bf%e0%a4%95%e0%a5%80-%e0%a4%b8%e0%a4%82%e0%a4%97%e0%a5%80%e0%a4%a4-%e0%a4%aa%e0%a4%b0-%e0%a4%a8%e0%a5%83%e0%a4%a4%e0%a5%8d%e0%a4%af-dancing-to-american-music/
LOCATION:Meany Center for the Performing Arts\, 4040 George Washington Lane NE\, Seattle\, WA 98195\, WA\, United States
END:VEVENT
END:VCALENDAR