BEGIN:VCALENDAR
VERSION:2.0
PRODID:-//SeattleID - ECPv6.15.20//NONSGML v1.0//EN
CALSCALE:GREGORIAN
METHOD:PUBLISH
X-WR-CALNAME:SeattleID
X-ORIGINAL-URL:https://seattleid.com
X-WR-CALDESC:Events for SeattleID
REFRESH-INTERVAL;VALUE=DURATION:PT1H
X-Robots-Tag:noindex
X-PUBLISHED-TTL:PT1H
BEGIN:VTIMEZONE
TZID:America/Los_Angeles
BEGIN:DAYLIGHT
TZOFFSETFROM:-0800
TZOFFSETTO:-0700
TZNAME:PDT
DTSTART:20250309T100000
END:DAYLIGHT
BEGIN:STANDARD
TZOFFSETFROM:-0700
TZOFFSETTO:-0800
TZNAME:PST
DTSTART:20251102T090000
END:STANDARD
BEGIN:DAYLIGHT
TZOFFSETFROM:-0800
TZOFFSETTO:-0700
TZNAME:PDT
DTSTART:20260308T100000
END:DAYLIGHT
BEGIN:STANDARD
TZOFFSETFROM:-0700
TZOFFSETTO:-0800
TZNAME:PST
DTSTART:20261101T090000
END:STANDARD
BEGIN:DAYLIGHT
TZOFFSETFROM:-0800
TZOFFSETTO:-0700
TZNAME:PDT
DTSTART:20270314T100000
END:DAYLIGHT
BEGIN:STANDARD
TZOFFSETFROM:-0700
TZOFFSETTO:-0800
TZNAME:PST
DTSTART:20271107T090000
END:STANDARD
END:VTIMEZONE
BEGIN:VEVENT
DTSTART;VALUE=DATE:20260506
DTEND;VALUE=DATE:20260507
DTSTAMP:20260424T020953
CREATED:20260411T133841Z
LAST-MODIFIED:20260411T133841Z
UID:176150-1778025600-1778111999@seattleid.com
SUMMARY:अफ्रीकी नृत्य African dance
DESCRIPTION:स्टेप अफ्रीका उत्साही पर्कुशिव नृत्य करते हैं\, जिसमें कदम बजाना\, धुन बजाना\, झांक और गानों के साथ गाने\, कहानी\, हास्य और प्रेक्षक के सहयोग के साथ एकत्रित करते हैं। फ़ेडरल वे नृत्य एवं घटना केंद्र\, 31510 पीट वॉन रीचबाउएर वे सी\, फ़ेडरल वे में। \n \n🎬 Video \n📍 Google Map \n🔗 मुखपृष्ठ देखें
URL:https://seattleid.com/seattle-event/%e0%a4%85%e0%a4%ab%e0%a5%8d%e0%a4%b0%e0%a5%80%e0%a4%95%e0%a5%80-%e0%a4%a8%e0%a5%83%e0%a4%a4%e0%a5%8d%e0%a4%af-african-dance-3/
LOCATION:Federal Way Performing Arts and Event Center\, 31510 Pete von Reichbauer Way S\, Federal Way\, WA 98003\, WA\, United States
END:VEVENT
END:VCALENDAR